BEGIN:VCALENDAR
VERSION:2.0
PRODID:-//wp-events-plugin.com//7.2.3.1//EN
TZID:Europe/Berlin
X-WR-TIMEZONE:Europe/Berlin
BEGIN:VEVENT
UID:583@dirk-stamer.de
DTSTART;TZID=Europe/Berlin:20260414T090000
DTEND;TZID=Europe/Berlin:20260414T153000
DTSTAMP:20260303T130635Z
URL:https://www.dirk-stamer.de/termine/2026_04_14/
SUMMARY:Lambrechtshagen
DESCRIPTION:
LOCATION:Lambrechtshagen
GEO:54.101938;12.017438
X-APPLE-STRUCTURED-LOCATION;VALUE=URI;X-ADDRESS=4228+QX\, Lambrechtshagen\,
  Deutschland;X-APPLE-RADIUS=100;X-TITLE=Lambrechtshagen:geo:54.101938,12.0
 17438
END:VEVENT
BEGIN:VTIMEZONE
TZID:Europe/Berlin
X-LIC-LOCATION:Europe/Berlin
BEGIN:DAYLIGHT
DTSTART:20260329T030000
TZOFFSETFROM:+0100
TZOFFSETTO:+0200
TZNAME:CEST
END:DAYLIGHT
END:VTIMEZONE
END:VCALENDAR