BEGIN:VCALENDAR
VERSION:2.0
PRODID:-//wp-events-plugin.com//7.2.3.1//EN
TZID:Europe/Berlin
X-WR-TIMEZONE:Europe/Berlin
BEGIN:VEVENT
UID:588@dirk-stamer.de
DTSTART;TZID=Europe/Berlin:20260505T100000
DTEND;TZID=Europe/Berlin:20260505T163000
DTSTAMP:20260420T071959Z
URL:https://www.dirk-stamer.de/termine/2026_05_05/
SUMMARY:A20 (Anschlusstelle Dummerstorf)
DESCRIPTION:
LOCATION:A20 (Anschlusstelle Dummerstorf)
GEO:54.021688;12.226938
X-APPLE-STRUCTURED-LOCATION;VALUE=URI;X-ADDRESS=26CG+MQ\, Dummerstorf\, Deu
 tschland;X-APPLE-RADIUS=100;X-TITLE=A20 (Anschlusstelle Dummerstorf):geo:5
 4.021688,12.226938
END:VEVENT
BEGIN:VTIMEZONE
TZID:Europe/Berlin
X-LIC-LOCATION:Europe/Berlin
BEGIN:DAYLIGHT
DTSTART:20260329T030000
TZOFFSETFROM:+0100
TZOFFSETTO:+0200
TZNAME:CEST
END:DAYLIGHT
END:VTIMEZONE
END:VCALENDAR