BEGIN:VCALENDAR
VERSION:2.0
PRODID:-//wp-events-plugin.com//7.2.3.1//EN
TZID:Europe/Berlin
X-WR-TIMEZONE:Europe/Berlin
BEGIN:VEVENT
UID:593@dirk-stamer.de
DTSTART;TZID=Europe/Berlin:20260521T100000
DTEND;TZID=Europe/Berlin:20260521T163000
DTSTAMP:20260420T074836Z
URL:https://www.dirk-stamer.de/termine/2026_05_21/
SUMMARY:A20 (Anschlussstelle Rostock Südstadt)
DESCRIPTION:
LOCATION:A20 (Anschlussstelle Rostock Südstadt)
GEO:54.024188;12.097688
X-APPLE-STRUCTURED-LOCATION;VALUE=URI;X-ADDRESS=23FX+M3\, Papendorf\, Deuts
 chland;X-APPLE-RADIUS=100;X-TITLE=A20 (Anschlussstelle Rostock Südstadt):
 geo:54.024188,12.097688
END:VEVENT
BEGIN:VTIMEZONE
TZID:Europe/Berlin
X-LIC-LOCATION:Europe/Berlin
BEGIN:DAYLIGHT
DTSTART:20260329T030000
TZOFFSETFROM:+0100
TZOFFSETTO:+0200
TZNAME:CEST
END:DAYLIGHT
END:VTIMEZONE
END:VCALENDAR