BEGIN:VCALENDAR
VERSION:2.0
PRODID:-//wp-events-plugin.com//7.2.3.1//EN
TZID:Europe/Berlin
X-WR-TIMEZONE:Europe/Berlin
BEGIN:VEVENT
UID:598@dirk-stamer.de
DTSTART;TZID=Europe/Berlin:20260528T090000
DTEND;TZID=Europe/Berlin:20260528T153000
DTSTAMP:20260420T075427Z
URL:https://www.dirk-stamer.de/termine/2026_05_28/
SUMMARY:Steinfeld
DESCRIPTION:
LOCATION:Steinfeld
GEO:54.111306;12.306806
X-APPLE-STRUCTURED-LOCATION;VALUE=URI;X-ADDRESS=4864+CQJ\, Steinfeld\, Meck
 lenburg-Vorpommern\, 18184\, Landkreis Rostock\, Deutschland;X-APPLE-RADIU
 S=100;X-TITLE=Steinfeld:geo:54.111306,12.306806
END:VEVENT
BEGIN:VTIMEZONE
TZID:Europe/Berlin
X-LIC-LOCATION:Europe/Berlin
BEGIN:DAYLIGHT
DTSTART:20260329T030000
TZOFFSETFROM:+0100
TZOFFSETTO:+0200
TZNAME:CEST
END:DAYLIGHT
END:VTIMEZONE
END:VCALENDAR